BEGIN:VCALENDAR
VERSION:2.0
PRODID:-//Acutonics Canada
CALSCALE:GREGORIAN
METHOD:PUBLISH
X-WR-CALNAME:Acutonics Canada
X-ORIGINAL-URL:https://acutonicscanada.ca/product/acutonics-fundamentals-of-chinese-medicine-3/
X-WR-CALDESC:Acutonics® Fundamentals of Chinese Medicine, Online
BEGIN:VEVENT
DTSTART;TZID=America/Denver:20260918T090000
DTEND;TZID=America/Denver:20260920T160000
SUMMARY:Acutonics® Fundamentals of Chinese Medicine, Online
DESCRIPTION:
URL:https://acutonicscanada.ca/product/acutonics-fundamentals-of-chinese-medicine-3/
LOCATION:Online via Zoom
END:VEVENT
END:VCALENDAR
