BEGIN:VCALENDAR
VERSION:2.0
PRODID:-//Acutonics Canada
CALSCALE:GREGORIAN
METHOD:PUBLISH
X-WR-CALNAME:Acutonics Canada
X-ORIGINAL-URL:https://acutonicscanada.ca/product/acutonics-level-i-ii-intensive-live-class-in-bc-canada/
X-WR-CALDESC:Acutonics® Level I &#038; II Intensive &#8211; LIVE Class in BC Canada
BEGIN:VEVENT
DTSTART;TZID=America/Denver:20230708T000000
DTEND;TZID=America/Denver:20230714T000000
SUMMARY:Acutonics® Level I & II Intensive – LIVE Class in BC Canada
DESCRIPTION:
URL:https://acutonicscanada.ca/product/acutonics-level-i-ii-intensive-live-class-in-bc-canada/
LOCATION:Kootenay sound Healing Centre, 691 Riondel Road, Riondel, BC, Canada
END:VEVENT
END:VCALENDAR
