BEGIN:VCALENDAR
VERSION:2.0
PRODID:-//Acutonics Canada
CALSCALE:GREGORIAN
METHOD:PUBLISH
X-WR-CALNAME:Acutonics Canada
X-ORIGINAL-URL:https://acutonicscanada.ca/product/acutonics-level-1-online/
X-WR-CALDESC:Acutonics® Level 1 ONLINE with option to attend LIVE
BEGIN:VEVENT
DTSTART;TZID=America/Denver:20240913T090000
DTEND;TZID=America/Denver:20240915T170000
SUMMARY:Acutonics® Level 1 ONLINE with option to attend LIVE
DESCRIPTION:
URL:https://acutonicscanada.ca/product/acutonics-level-1-online/
LOCATION:Online via Zoom
END:VEVENT
END:VCALENDAR
