BEGIN:VCALENDAR
VERSION:2.0
PRODID:-//Acutonics Canada
CALSCALE:GREGORIAN
METHOD:PUBLISH
X-WR-CALNAME:Acutonics Canada
X-ORIGINAL-URL:https://acutonicscanada.ca/product/free-acutonics-review-weekend/
X-WR-CALDESC:Free Acutonics® Review Weekend
BEGIN:VEVENT
DTSTART;TZID=America/Denver:20210306T090000
DTEND;TZID=America/Denver:20210307T160000
SUMMARY:Free Acutonics® Review Weekend
DESCRIPTION:We will be offering free review classes on March 6 and 7, 2021. Review segments are only available to students who have completed that level. Clinic hour credits are available for these review classes at a cost of $25 per 2-1/2 hour segment, or $100 for the 10 hour weekend. See Details below for Class Schedule. If you are interested, contact theresa@kshc.ca for more details and registration.
URL:https://acutonicscanada.ca/product/free-acutonics-review-weekend/
LOCATION:Online via Zoom
END:VEVENT
END:VCALENDAR
